Workbook

Sheet DATA
A1: Mid Term Paper
A2: Spring 2018
A3: MSc Mathematics
A4: STA 641 : Statistical Packages and its Applications
A5: Total Marks = 20
A7: Instructions:
A8: Attempt all questions.
A9: Note: You can solve the questions in separate sheets of a single excel file. Save the Excel file and name the file as your Student ID.
C10: Also write down All the steps you performed to solve the questions
A12: Question NO.01: | B12: Find The Mean , Median, Variance, Standard Deviation, Coefficient of Variance of the data given below: | G12: Marks 2+2+2+2+2= 10
D14: Data
D15: 94.065172
D16: 91.89485
D17: 95.839101
D18: 91.484589
D19: 85.486478
D20: 87.821748
D21: 87.805454
D22: 83.14459
D23: 84.192653
D24: 88.880256
D25: 90.539647
D26: 92.604893
... D49: 79.674855
A53: Question NO.02: | B53: The following scores represent nurse’s assessment (X) and a physician’s assessment (Y) of the condition of 20 patients at time of admission to a hospital.
G54: Marks (7+3)
B55: Y | C55: X
B56: 26 | C56: 20
B57: 23 | C57: 15
B58: 21 | C58: 20
B59: 19 | C59: 17
B60: 17 | C60: 12
B61: 14 | C61: 14
B62: 13 | C62: 10
B63: 10 | C63: 6
B64: 9 | C64: 9
B65: 7 | C65: 5
B66: =B56+_xlfn.BINOM.INV(5,0.5,0.1) -> 27 | C66: =C56+_xlfn.BINOM.INV(5,0.5,0.1) -> 21
B67: =B57+_xlfn.BINOM.INV(5,0.5,0.1) -> 24 | C67: =C57+_xlfn.BINOM.INV(5,0.5,0.1) -> 16
B68: =B58+_xlfn.BINOM.INV(5,0.5,0.1) -> 22 | C68: =C58+_xlfn.BINOM.INV(5,0.5,0.1) -> 21
B69: =B59+_xlfn.BINOM.INV(5,0.5,0.1) -> 20 | C69: =C59+_xlfn.BINOM.INV(5,0.5,0.1) -> 18
B70: =B60+_xlfn.BINOM.INV(5,0.5,0.1) -> 18 | C70: =C60+_xlfn.BINOM.INV(5,0.5,0.1) -> 13
B71: =B61+_xlfn.BINOM.INV(5,0.5,0.1) -> 15 | C71: =C61+_xlfn.BINOM.INV(5,0.5,0.1) -> 15
B72: =B62+_xlfn.BINOM.INV(5,0.5,0.1) -> 14 | C72: =C62+_xlfn.BINOM.INV(5,0.5,0.1) -> 11
B73: =B63+_xlfn.BINOM.INV(5,0.5,0.1) -> 11 | C73: =C63+_xlfn.BINOM.INV(5,0.5,0.1) -> 7
B74: =B64+_xlfn.BINOM.INV(5,0.5,0.1) -> 10 | C74: =C64+_xlfn.BINOM.INV(5,0.5,0.1) -> 10
B75: =B66+_xlfn.BINOM.INV(5,0.5,0.1) -> 28 | C75: =C66+_xlfn.BINOM.INV(5,0.5,0.1) -> 22
B77: Let Y be dependent and X be an independent variable.
B78: a) Construct the Simple linear regression model and estimate its coefficients.
B79: b) Write the estimated regression line and interpret the results.

Sheet SOLUTION
A1: NAME
A2: ROLL NUMBER
A3: CODE
A4: EXAM
B6: =DATA!D15 -> 94.065172
B7: =DATA!D16 -> 91.89485
B8: =DATA!D17 -> 95.839101
B9: =DATA!D18 -> 91.484589
B10: =DATA!D19 -> 85.486478
B11: =DATA!D20 -> 87.821748
B12: =DATA!D21 -> 87.805454
B13: =DATA!D22 -> 83.14459
B14: =DATA!D23 -> 84.192653
B15: =DATA!D24 -> 88.880256
B16: =DATA!D25 -> 90.539647
B17: =DATA!D26 -> 92.604893
... B40: =DATA!D49 -> 79.674855
B41: SOLUTION : Q#01
B42: MEAN | F42: = | G42: =AVERAGE(B6:B40) -> 89.60902
B43: MEDIAN | F43: = | G43: =MEDIAN(B6:B40) -> 90.539647
B44: VARIANCE | F44: = | G44: =VAR(B6:B40) -> 27.029954
B45: STANDARD DEVIATION | F45: = | G45: =STDEV(B6:B40) -> 5.199034
B46: COEFFICIENT OF VARIANCE | F46: = | G46: =(G45/G42)*100 -> 5.8019092
B49: SOLUTION : Q#02
B52: Y | C52: X | D52: XY | E52: X^2 | F52: Y^2
B53: =DATA!B56 -> 26 | C53: =DATA!C56 -> 20 | D53: =B53*C53 -> 520 | E53: =C53^2 -> 400 | F53: =B53^2 -> 676
B54: =DATA!B57 -> 23 | C54: =DATA!C57 -> 15 | D54: =B54*C54 -> 345 | E54: =C54^2 -> 225 | F54: =B54^2 -> 529
B55: =DATA!B58 -> 21 | C55: =DATA!C58 -> 20 | D55: =B55*C55 -> 420 | E55: =C55^2 -> 400 | F55: =B55^2 -> 441
B56: =DATA!B59 -> 19 | C56: =DATA!C59 -> 17 | D56: =B56*C56 -> 323 | E56: =C56^2 -> 289 | F56: =B56^2 -> 361
B57: =DATA!B60 -> 17 | C57: =DATA!C60 -> 12 | D57: =B57*C57 -> 204 | E57: =C57^2 -> 144 | F57: =B57^2 -> 289
B58: =DATA!B61 -> 14 | C58: =DATA!C61 -> 14 | D58: =B58*C58 -> 196 | E58: =C58^2 -> 196 | F58: =B58^2 -> 196
B59: =DATA!B62 -> 13 | C59: =DATA!C62 -> 10 | D59: =B59*C59 -> 130 | E59: =C59^2 -> 100 | F59: =B59^2 -> 169
B60: =DATA!B63 -> 10 | C60: =DATA!C63 -> 6 | D60: =B60*C60 -> 60 | E60: =C60^2 -> 36 | F60: =B60^2 -> 100
B61: =DATA!B64 -> 9 | C61: =DATA!C64 -> 9 | D61: =B61*C61 -> 81 | E61: =C61^2 -> 81 | F61: =B61^2 -> 81
B62: =DATA!B65 -> 7 | C62: =DATA!C65 -> 5 | D62: =B62*C62 -> 35 | E62: =C62^2 -> 25 | F62: =B62^2 -> 49
B63: =DATA!B66 -> 27 | C63: =DATA!C66 -> 21 | D63: =B63*C63 -> 567 | E63: =C63^2 -> 441 | F63: =B63^2 -> 729
B64: =DATA!B67 -> 24 | C64: =DATA!C67 -> 16 | D64: =B64*C64 -> 384 | E64: =C64^2 -> 256 | F64: =B64^2 -> 576
... B72: =DATA!B75 -> 28 | C72: =DATA!C75 -> 22 | D72: =B72*C72 -> 616 | E72: =C72^2 -> 484 | F72: =B72^2 -> 784
A73: SUM= | B73: =SUM(B53:B72) -> 348 | C73: =SUM(C53:C72) -> 282 | D73: =SUM(D53:D72) -> 5493 | E73: =SUM(E53:E72) -> 4506 | F73: =SUM(F53:F72) -> 6830
B75: here
C76: n | D76: = | E76: 20
C77: ∑x | D77: = | E77: =C73 -> 282
C78: ∑y | D78: = | E78: =B73 -> 348
C79: ∑xy | D79: = | E79: =D73 -> 5493
C80: ∑x^2 | D80: = | E80: =E73 -> 4506
C81: ∑y^2 | D81: = | E81: =F73 -> 6830
C83: Now by putting values in following table we get
B88: r= | D88: =20*E79-E77*E78 -> 11724
D89: =SQRT((20*E80-E77^2)*(20*E81-E78^2)) -> 12813.884
B91: r= | D91: =D88/D89 -> 0.91494509
B94: As corelation coefficeint near to +1 so the relationship between x and y is strong positve

Sheet Sheet3
C4: DATA | D4: O.M | F4: X.BAR | G4: range | H4: x.D.BAR | I4: S.DEVIATION | J4: CL | K4: UCL | L4: LCL
D5: Q1 | E5: Q2
C6: 1 | D6: 30 | E6: 20 | F6: =AVERAGE(D6:E6) -> 25 | G6: =MAX(D6:E6)-MIN(D6:E6) -> 10 | H6: =AVERAGE($F$6:$F$10) -> 25 | I6: =STDEV($F$6:$F$10) -> 5.3033009 | J6: =$H$6 -> 25 | K6: =$I$6+3*$J$6 -> 80.303301 | L6: =$I$6-3*$J$6 -> -69.696699
C7: 2 | D7: 25 | E7: 20 | F7: =AVERAGE(D7:E7) -> 22.5 | G7: =MAX(D7:E7)-MIN(D7:E7) -> 5 | H7: =AVERAGE($F$6:$F$10) -> 25 | I7: =STDEV($F$6:$F$10) -> 5.3033009 | J7: =$H$6 -> 25 | K7: =$I$6+3*$J$6 -> 80.303301 | L7: =$I$6-3*$J$6 -> -69.696699
C8: 3 | D8: 30 | E8: 30 | F8: =AVERAGE(D8:E8) -> 30 | G8: =MAX(D8:E8)-MIN(D8:E8) -> 0 | H8: =AVERAGE($F$6:$F$10) -> 25 | I8: =STDEV($F$6:$F$10) -> 5.3033009 | J8: =$H$6 -> 25 | K8: =$I$6+3*$J$6 -> 80.303301 | L8: =$I$6-3*$J$6 -> -69.696699
C9: 4 | D9: 20 | E9: 15 | F9: =AVERAGE(D9:E9) -> 17.5 | G9: =MAX(D9:E9)-MIN(D9:E9) -> 5 | H9: =AVERAGE($F$6:$F$10) -> 25 | I9: =STDEV($F$6:$F$10) -> 5.3033009 | J9: =$H$6 -> 25 | K9: =$I$6+3*$J$6 -> 80.303301 | L9: =$I$6-3*$J$6 -> -69.696699
C10: 5 | D10: 40 | E10: 20 | F10: =AVERAGE(D10:E10) -> 30 | G10: =MAX(D10:E10)-MIN(D10:E10) -> 20 | H10: =AVERAGE($F$6:$F$10) -> 25 | I10: =STDEV($F$6:$F$10) -> 5.3033009 | J10: =$H$6 -> 25 | K10: =$I$6+3*$J$6 -> 80.303301 | L10: =$I$6-3*$J$6 -> -69.696699
D13: MEAN | E13: =AVERAGE(F6:F10) -> 25
D14: MEDIAN | E14: =MEDIAN(F6:F10) -> 25
D15: mode | E15: =MODE(F6:F10) -> 30
D16: S.D | E16: =STDEV(F6:F10) -> 5.3033009
D17: VARIANCE | E17: =VAR(F6:F10) -> 28.125
